BEGIN:VCALENDAR
VERSION:2.0
PRODID:-//Ravine Foundation - ECPv6.8.2.1//NONSGML v1.0//EN
CALSCALE:GREGORIAN
METHOD:PUBLISH
X-WR-CALNAME:Ravine Foundation
X-ORIGINAL-URL:https://ravinefoundation.org
X-WR-CALDESC:Events for Ravine Foundation
REFRESH-INTERVAL;VALUE=DURATION:PT1H
X-Robots-Tag:noindex
X-PUBLISHED-TTL:PT1H
BEGIN:VTIMEZONE
TZID:UTC
BEGIN:STANDARD
TZOFFSETFROM:+0000
TZOFFSETTO:+0000
TZNAME:UTC
DTSTART:20240101T000000
END:STANDARD
END:VTIMEZONE
BEGIN:VEVENT
DTSTART;VALUE=DATE:20240617
DTEND;VALUE=DATE:20240623
DTSTAMP:20260420T201937
CREATED:20240701T102824Z
LAST-MODIFIED:20240701T103038Z
UID:10000007-1718582400-1719100799@ravinefoundation.org
SUMMARY:NGO's WEEK 2024
DESCRIPTION:Our team attended the NGO’s Week 2024\, the theme was: Building Synergy for a Sustainable Future
URL:https://ravinefoundation.org/event/ngos-week-2024/
CATEGORIES:ngo
ATTACH;FMTTYPE=image/jpeg:https://ravinefoundation.org/wp-content/uploads/2024/07/WhatsApp-Image-2024-06-18-at-13.31.58.jpeg
END:VEVENT
END:VCALENDAR